BEGIN:VCALENDAR
VERSION:2.0
PRODID:-//Eesti Kalisteenika ja Tänavaspordi Liit - ECPv6.15.12.2//NONSGML v1.0//EN
CALSCALE:GREGORIAN
METHOD:PUBLISH
X-WR-CALNAME:Eesti Kalisteenika ja Tänavaspordi Liit
X-ORIGINAL-URL:https://kalisteenika.ee
X-WR-CALDESC:Events for Eesti Kalisteenika ja Tänavaspordi Liit
REFRESH-INTERVAL;VALUE=DURATION:PT1H
X-Robots-Tag:noindex
X-PUBLISHED-TTL:PT1H
BEGIN:VTIMEZONE
TZID:UTC
BEGIN:STANDARD
TZOFFSETFROM:+0000
TZOFFSETTO:+0000
TZNAME:UTC
DTSTART:20220101T000000
END:STANDARD
END:VTIMEZONE
BEGIN:VEVENT
DTSTART;TZID=UTC:20230610T140000
DTEND;TZID=UTC:20230610T190000
DTSTAMP:20260420T180455
CREATED:20230320T151142Z
LAST-MODIFIED:20230503T041724Z
UID:1685-1686405600-1686423600@kalisteenika.ee
SUMMARY:Eesti Meistrivõistlused Kalisteenikas 2023
DESCRIPTION:Eesti Meistrivõistlused Kalisteenikas toimuvad Narvas\, linnapäevade raames. Võistluspäev algab kell 14:00 ning orienteeruv lõpp saab olema kell 18.00.\nEesti Meistrivõistlustel selguvad tulevased Eesti koondislased.\nÜritus on kõigile pealtvaatajatele tasuta!\nREGISTRATSIOON: https://forms.gle/tFrtnQeDmwgmch958
URL:https://kalisteenika.ee/uritused/eesti-meistrivoistlused-kalisteenikas-2023/
LOCATION:NARVA\, Vanalinn\, Narva\, Narva\, Estonia
CATEGORIES:Kalisteenika
ATTACH;FMTTYPE=image/jpeg:https://kalisteenika.ee/wp-content/uploads/2023/03/eesti-meistrivoistlused-kalisteenikas-kalisteenika-liit.jpeg
ORGANIZER;CN="Eesti Kalisteenika ja T%C3%A4navaspordi Liit":MAILTO:info@kalisteenika.ee
END:VEVENT
BEGIN:VEVENT
DTSTART;VALUE=DATE:20230527
DTEND;VALUE=DATE:20230529
DTSTAMP:20260420T180455
CREATED:20230320T175015Z
LAST-MODIFIED:20230501T145854Z
UID:1794-1685145600-1685318399@kalisteenika.ee
SUMMARY:KEVAD BATTLES 2023
DESCRIPTION:Kaheksa aastat Pärnus! \nSpordifestival Kevad Battles paneb selle aasta suvehooajale grandioosse avapaugu\, koondades kahele päevale sadakond spordihinge.\nSuvepealinna keskrannas laiutav festival toob kokku sportlased Euroopast ja Aasiast\nNäha saab kuute spordiala eepilises keskkonnas\nFestivalile on oodata mahukat EXPO ja toidutänavat\, kus võimalik tutvuda erinevate huvi- ja spordikoolidega\, süüa head-paremat\, veeta aega lounge aladel ning limpsida luidetel jäätist\n—————————-\n27.05\nKalisteenika vabakavad (Freestyle)\nKalisteenika jõuvastupidavus (Strength Endurance)\nFitness Challenge\nRannajalgpall \n28.05\nKäesurumine\nRammusport\nRannajalgpall\n—————————-\nÜritus on publikule tasuta\,\nnäeme rannas\nwww.kevadbattles.com
URL:https://kalisteenika.ee/uritused/age-uritus/
LOCATION:PÄRNU\, Pärnu rand
CATEGORIES:Kalisteenika
ATTACH;FMTTYPE=image/jpeg:https://kalisteenika.ee/wp-content/uploads/2023/03/kevad-battles-2023-eest-kalisteenika-liit.jpeg
ORGANIZER;CN="Striidikool":MAILTO:striidikool@hotmail.com
END:VEVENT
END:VCALENDAR