BEGIN:VCALENDAR
VERSION:2.0
PRODID:-//Eesti Kalisteenika ja Tänavaspordi Liit - ECPv6.15.12.2//NONSGML v1.0//EN
CALSCALE:GREGORIAN
METHOD:PUBLISH
X-WR-CALNAME:Eesti Kalisteenika ja Tänavaspordi Liit
X-ORIGINAL-URL:https://kalisteenika.ee
X-WR-CALDESC:Events for Eesti Kalisteenika ja Tänavaspordi Liit
REFRESH-INTERVAL;VALUE=DURATION:PT1H
X-Robots-Tag:noindex
X-PUBLISHED-TTL:PT1H
BEGIN:VTIMEZONE
TZID:UTC
BEGIN:STANDARD
TZOFFSETFROM:+0000
TZOFFSETTO:+0000
TZNAME:UTC
DTSTART:20230101T000000
END:STANDARD
END:VTIMEZONE
BEGIN:VEVENT
DTSTART;TZID=UTC:20240114T120000
DTEND;TZID=UTC:20240114T170000
DTSTAMP:20260424T171812
CREATED:20231218T142308Z
LAST-MODIFIED:20231229T083009Z
UID:2274-1705233600-1705251600@kalisteenika.ee
SUMMARY:Kalisteenika Liidu Tunnustusüritus 2023
DESCRIPTION:Eesti Kalisteenika ja Tänavaspordi Liidul on hea meel tänada 2023. aasta aktiivsemaid kalisteenikaspordi edendajaid. Tänuüritus toimub 14. jaanuaril Tallinnas Tondi Forus Spordikeskuses. \nTänuürituse raames nomineerime järgmiseid kategooriaid: \n\nAasta Naissportlane 2023 – Nominentide hulgas on silmapaistvaid kalisteenikaspordi naisesindajaid\, kes on näidanud erakordset jõudu\, vastupidavust ja pühendumust.\nAasta Meessportlane 2023 – Kategoorias “Aasta Meessportlane 2023” nomineeritakse neid\, kes on kalisteenikamaailmas tõusnud esile oma vapustavate saavutuste tõttu.\nAasta Seeniorsportlane 2023 – Tänuüritus tunnustab ka kogenud kalisteenikaharrastajaid\, kes on eeskujuks kõigile oma vitaalsuse ja pühendumusega.\nAasta Sisulooja 2023 – Selles kategoorias nomineeritakse isikuid\, kes on panustanud kalisteenika kogukonda sisukate ideede\, lugude või sotsiaalmeedias jagatava inspiratsiooniga.\n\nÜritusele pääsemine toimub kutsete alusel. \n 
URL:https://kalisteenika.ee/uritused/kalisteenika-liidu-tunnustusuritus-2023/
LOCATION:Tallinn Forus Spordiklubi Tondi\, Sõjakooli tn 10\, Tallinn\, 11316\, Estonia
ATTACH;FMTTYPE=image/jpeg:https://kalisteenika.ee/wp-content/uploads/2023/12/EESTI-KALISTEENIKASPORDI-Instagram-Post.jpg
ORGANIZER;CN="Eesti Kalisteenika ja T%C3%A4navaspordi Liit":MAILTO:info@kalisteenika.ee
END:VEVENT
END:VCALENDAR