BEGIN:VCALENDAR
VERSION:2.0
PRODID:-//Eesti Kalisteenika ja Tänavaspordi Liit - ECPv6.15.12.2//NONSGML v1.0//EN
CALSCALE:GREGORIAN
METHOD:PUBLISH
X-WR-CALNAME:Eesti Kalisteenika ja Tänavaspordi Liit
X-ORIGINAL-URL:https://kalisteenika.ee
X-WR-CALDESC:Events for Eesti Kalisteenika ja Tänavaspordi Liit
REFRESH-INTERVAL;VALUE=DURATION:PT1H
X-Robots-Tag:noindex
X-PUBLISHED-TTL:PT1H
BEGIN:VTIMEZONE
TZID:UTC
BEGIN:STANDARD
TZOFFSETFROM:+0000
TZOFFSETTO:+0000
TZNAME:UTC
DTSTART:20220101T000000
END:STANDARD
END:VTIMEZONE
BEGIN:VEVENT
DTSTART;TZID=UTC:20231125T120000
DTEND;TZID=UTC:20231125T160000
DTSTAMP:20260424T203856
CREATED:20230701T090835Z
LAST-MODIFIED:20231122T103014Z
UID:2090-1700913600-1700928000@kalisteenika.ee
SUMMARY:Eesti Karikavõistlused Kalisteenikas 2023
DESCRIPTION:Eesti Karikavõistlused Kalisteenikas 2023\n\n\nLaupäev 25. november kell 12:00 – 16:00 \nUulu Kultuuri- ja Spordikeskus • Pargi tee 1\, 86502 Uulu\, Pärnu maakond \n\nRegistreeru\n\n\n\nEesti Karikavõistlused Kalisteenikas toimuvad tänavu Pärnumaal\, 15 minuti kaugusel Pärnu linnast\, Uulu Kultuuri-ja Spordikeskuses. \nReeglid ja juhendid loetavad lingi alt: https://1drv.ms/b/s!Aktg19vEF4akvkKGXu4PpCMceNG4?e=Sr5Yeo \nTäendavaid küsimusi ootame epostile info@kalisteenika.ee \n\nEndurance võistluse harjutused:\nhttps://kalisteenika.ee/wp-content/uploads/2023/07/EKV-harjutused-jou-vastupidavuses-2023.mp4\n  \n  \nAjakava
URL:https://kalisteenika.ee/uritused/eesti-karikavoistlused-kalisteenikas-2023/
LOCATION:Uulu Spordihoone\, Pargi tee 1\, Uulu\, 86502 Pärnu maakond\, Pärnu\, 86502\, Estonia
ATTACH;FMTTYPE=image/jpeg:https://kalisteenika.ee/wp-content/uploads/2023/07/Untitled-design.jpg
ORGANIZER;CN="Eesti Kalisteenika ja T%C3%A4navaspordi Liit":MAILTO:info@kalisteenika.ee
END:VEVENT
END:VCALENDAR