BEGIN:VCALENDAR
VERSION:2.0
PRODID:-//Eesti Kalisteenika ja Tänavaspordi Liit - ECPv6.15.12.2//NONSGML v1.0//EN
CALSCALE:GREGORIAN
METHOD:PUBLISH
X-ORIGINAL-URL:https://kalisteenika.ee
X-WR-CALDESC:Events for Eesti Kalisteenika ja Tänavaspordi Liit
REFRESH-INTERVAL;VALUE=DURATION:PT1H
X-Robots-Tag:noindex
X-PUBLISHED-TTL:PT1H
BEGIN:VTIMEZONE
TZID:UTC
BEGIN:STANDARD
TZOFFSETFROM:+0000
TZOFFSETTO:+0000
TZNAME:UTC
DTSTART:20230101T000000
END:STANDARD
END:VTIMEZONE
BEGIN:VEVENT
DTSTART;TZID=UTC:20240428T103000
DTEND;TZID=UTC:20240428T170000
DTSTAMP:20260422T185807
CREATED:20240409T095247Z
LAST-MODIFIED:20240409T095247Z
UID:2636-1714300200-1714323600@kalisteenika.ee
SUMMARY:Kalisteenika jõuvastupidavuse kohtunike koolitus
DESCRIPTION:Eesti Kalisteenika ja Tänavaspordi Liit viib läbi jõuvastupidavuse distsipliini koolituse. \nToimumise aeg: 28.04.2024\nToimumise koht: Tallinn (lokatsiooni teatame 10.aprill) \nPäevakava\n10:30-11:00 Saabumine\, hommikukohv\n11:00-11:30 sissejuhatus ja erinevate võistlusolude tutvustus\n11:30-12:30 Harjutuste sooritamine ning põhivead\n12:45-13:00 Millised on võistlusplatside standardid Eestis\n13:00-15:00 Praktiline osa I\n15:00-15:15 Kohvipaus\n15:15-16:45 Praktiline osa II (Võistlusmomentide läbi viimine)\n16:45-17:00 Koolituse kokkuvõte \nKoolitus on soovituslik lisaks kohtunikutöö huvilistele ka teistele spordiklubidele ja tulevastele sündmuskorraldajatele. \nKoolituse maksumus liikmesklubide liikmetele 49€\, tavahind 69€ \n👉Registreerida saab siit: Registreerimine \nLisainfo: info@kalisteenika.ee
URL:https://kalisteenika.ee/uritused/kalisteenika-jouvastupidavuse-kohtunike-koolitus/
LOCATION:Tallinn\, Kristiine Keskus\, Tallinn\, Estonia
ATTACH;FMTTYPE=image/webp:https://kalisteenika.ee/wp-content/uploads/2024/04/Koolitus-2.webp
ORGANIZER;CN="Eesti Kalisteenika ja T%C3%A4navaspordi Liit":MAILTO:info@kalisteenika.ee
END:VEVENT
END:VCALENDAR