BEGIN:VCALENDAR
VERSION:2.0
PRODID:-//Eesti Kalisteenika ja Tänavaspordi Liit - ECPv6.15.12.2//NONSGML v1.0//EN
CALSCALE:GREGORIAN
METHOD:PUBLISH
X-WR-CALNAME:Eesti Kalisteenika ja Tänavaspordi Liit
X-ORIGINAL-URL:https://kalisteenika.ee
X-WR-CALDESC:Events for Eesti Kalisteenika ja Tänavaspordi Liit
REFRESH-INTERVAL;VALUE=DURATION:PT1H
X-Robots-Tag:noindex
X-PUBLISHED-TTL:PT1H
BEGIN:VTIMEZONE
TZID:UTC
BEGIN:STANDARD
TZOFFSETFROM:+0000
TZOFFSETTO:+0000
TZNAME:UTC
DTSTART:20220101T000000
END:STANDARD
END:VTIMEZONE
BEGIN:VEVENT
DTSTART;TZID=UTC:20231021T080000
DTEND;TZID=UTC:20231022T170000
DTSTAMP:20260425T003830
CREATED:20231015T061335Z
LAST-MODIFIED:20231015T061453Z
UID:2192-1697875200-1697994000@kalisteenika.ee
SUMMARY:Kalisteenika töötuba ja proovitreeningud Saku Spordikeskuses
DESCRIPTION:Kalisteenika töötuba ja proovitreeningud Saku Spordikeskuses\nKõigepealt toimub 12. oktoobril Kalisteenika workshop Marite Maas ja Reigo Adamsoni juhendamisel Saku Spordikeskuses algusega kell 18:00. Workshopi pikkus on 1.5h. See on kõigile tasuta.\n\n21. ja 22. oktoobril toimuvad laste ja noorte Kalisteenika proovitrennid Saku Spordikeskuses:\nKalisteenika proovitreeningud Sakus – Laupäev 21. oktoober;\n1) Kalisteenika elemendid – avatud grupp alates 7. eluaastast 14:00-14:30\n2) Funktsionaaltreening grupp A (7-11 a) 15:00-15:30\n3) Funktsionaaltreening grupp B (12-16 a) 15:30-16:00\nProovitrennide pikkus on 30 min ja see on lastele tasuta.\n\n\nKalisteenika proovitreeningud Sakus – Pühapäev 22. oktoober;\n1) Handstand+Mobility lastele – avatud grupp alates 7 eluaastast 15:00-15:30\nProovitrenni pikkus on 30 min ja see on lastele tasuta.\n\n\nKalisteenika treeningud Sakus\n\nLaupäeviti:\n1) Kalisteenika elemendid – avatud grupp alates 7. eluaastast 13:00-14:30\n2) Funktsionaaltreening grupp A (7-11 a) 15:00-16:00\n3) Funktsionaaltreening grupp B (12-16 a) 16:00-17:00\n\nPühapäeviti:\n1) Handstand+Mobility lastele – avatud grupp alates 7. eluaastast 15:00-16:30\n\n 
URL:https://kalisteenika.ee/uritused/kalisteenika-tootuba-ja-proovitreeningud-saku-spordikeskuses/
LOCATION:Harjumaa
ATTACH;FMTTYPE=image/jpeg:https://kalisteenika.ee/wp-content/uploads/2023/07/Kevad-Battles-2023-3.jpg
END:VEVENT
END:VCALENDAR